BEGIN:VCALENDAR
VERSION:2.0
PRODID:-//Dignified Women of Substance Foundation - ECPv4.9.13//NONSGML v1.0//EN
CALSCALE:GREGORIAN
METHOD:PUBLISH
X-WR-CALNAME:Dignified Women of Substance Foundation
X-ORIGINAL-URL:http://dignifiedwomenfoundation.org
X-WR-CALDESC:Events for Dignified Women of Substance Foundation
BEGIN:VTIMEZONE
TZID:UTC
BEGIN:STANDARD
TZOFFSETFROM:+0000
TZOFFSETTO:+0000
TZNAME:UTC
DTSTART:20200101T000000
END:STANDARD
END:VTIMEZONE
BEGIN:VEVENT
DTSTART;TZID=UTC:20200415T080000
DTEND;TZID=UTC:20200415T170000
DTSTAMP:20260420T213132
CREATED:20191216T123921Z
LAST-MODIFIED:20191220T181531Z
UID:71-1586937600-1586970000@dignifiedwomenfoundation.org
SUMMARY:Post Partum Depression seminar
DESCRIPTION: \nSo many women are victims of PPD and only about 10% women actually knows that what they undergo after pregnancy is related to or triggered by PPD.\nWomen need to know that they are not alone in their experiences and that there is a medical condition responsible for that as well as an available treatment. \nWe hope to take this Seminar far and near by working with appropriate medical and psychological bodies. Please contact us if you want to impact lives with your knowledge and resources. \n  \nImage by Huffpost \n
URL:http://dignifiedwomenfoundation.org/?tribe_events=post-partum-depression-seminar
ATTACH;FMTTYPE=image/jpeg:http://dignifiedwomenfoundation.org/wp-content/uploads/2019/12/Post-Partum-Depression.jpg
END:VEVENT
END:VCALENDAR